BEGIN:VCALENDAR
VERSION:2.0
PRODID:-//eventon.com NONSGML v1.0//EN
CALSCALE:GREGORIAN
METHOD:PUBLISH
BEGIN:VEVENT
UID:69e9d86322baf
DTSTAMP:20260423T082923Z
DTSTART:20180322T174500Z
DTEND:20180322T190000Z
LOCATION:Fonteinkerk Robert Kochstraat 2-4\,  3817 JM Amersfoort
SUMMARY:Sobere maaltijd in de 40 dagentijd
DESCRIPTION:Sobere maaltijd in de 40 dagentijd\nhttps://fonteinkerk-amersfo
 ort.nl/events/sobere-maaltijd-22maart/
URL:https://fonteinkerk-amersfoort.nl/events/sobere-maaltijd-22maart/
END:VEVENT
END:VCALENDAR