BEGIN:VCALENDAR
VERSION:2.0
PRODID:-//eventon.com NONSGML v1.0//EN
CALSCALE:GREGORIAN
METHOD:PUBLISH
BEGIN:VEVENT
UID:69e8a5b63ac4f
DTSTAMP:20260422T104054Z
DTSTART:20180517T194500Z
DTEND:20180517T235000Z
LOCATION:Fonteinkerk Robert Kochstraat 2-4\,  3817 JM Amersfoort
SUMMARY:Bibliodrama "Pasen en Pinksteren"
DESCRIPTION:Bibliodrama rond Pasen en Pinksteren De commissie Vorming Door 
 Ontmoeting organiseert in samenwerking met Caroline Bezemer op 22 maart en 
 17 mei opnieuw een serie avonden met bibliodrama. IN HET WOORD ‘BIBLIO-DR
 AMA’ VERWIJST ‘BIBLIO’ NAAR BOEKEN\,  DRAMA NAAR HET SPELEN VAN DE RO
 LLEN EN SITUATIES. Op weg naar Pasen en[..]\nhttps://fonteinkerk-amersfoort
 .nl/events/bibliodrama-pasen-en-pinksteren-deel2/
URL:https://fonteinkerk-amersfoort.nl/events/bibliodrama-pasen-en-pinksteren-deel2/
END:VEVENT
END:VCALENDAR