BEGIN:VCALENDAR
VERSION:2.0
PRODID:-//eventon.com NONSGML v1.0//EN
CALSCALE:GREGORIAN
METHOD:PUBLISH
BEGIN:VEVENT
UID:69e8a5b71e171
DTSTAMP:20260422T104055Z
DTSTART:20180308T200000Z
DTEND:20180308T235000Z
LOCATION:De Hoeksteen Klaartje Donzepad 59
SUMMARY:Geloven is stom!
DESCRIPTION:Geloven is stom! Jongeren leven in een wereld waarin geloof in 
 een God of actief zijn in een kerk niet zo vanzelfsprekend is. Er kunnen he
 n kritische vragen worden gesteld als dit ter sprake komt. En misschien ste
 llen ze zelf ook die vragen. Wat zou je moeten en kunnen met[..]\nhttps://f
 onteinkerk-amersfoort.nl/events/geloven-is-stom/
URL:https://fonteinkerk-amersfoort.nl/events/geloven-is-stom/
END:VEVENT
END:VCALENDAR