BEGIN:VCALENDAR
VERSION:2.0
PRODID:-//eventon.com NONSGML v1.0//EN
CALSCALE:GREGORIAN
METHOD:PUBLISH
BEGIN:VEVENT
UID:69ec96650c00d
DTSTAMP:20260425T102437Z
DTSTART:20260216T190000Z
DTEND:20260216T225900Z
LOCATION:Fonteinkerk Robert Kochstraat 2-4\,  3817 JM Amersfoort
SUMMARY:De Mare van Mirjam\,  Maria en Maryam (3)
DESCRIPTION:Op vier avonden in de maand februari staan in een Leerhuis vrou
 wen van aanzien centraal: Mirjam uit Tenach\,  Maria uit het Nieuwe Testame
 nt en Maryam uit de Koran. Aan de hand van teksten uit de drie tradities â€
 “ zowel oude als heel recente teksten &#8211; staan we stil bij de[..]\nhtt
 ps://fonteinkerk-amersfoort.nl/events/de-mare-van-mirjam-maria-en-maryam-3/
URL:https://fonteinkerk-amersfoort.nl/events/de-mare-van-mirjam-maria-en-maryam-3/
END:VEVENT
END:VCALENDAR