BEGIN:VCALENDAR
VERSION:2.0
PRODID:-//eventon.com NONSGML v1.0//EN
CALSCALE:GREGORIAN
METHOD:PUBLISH
BEGIN:VEVENT
UID:69ea2e827ca57
DTSTAMP:20260423T143650Z
DTSTART:20260202T190000Z
DTEND:20260202T225900Z
LOCATION:Fonteinkerk Robert Kochstraat 2-4\,  3817 JM Amersfoort
SUMMARY:De Mare van Mirjam\,  Maria en Maryam
DESCRIPTION:Op vier avonden in de maand februari staan in een Leerhuis vrou
 wen van aanzien centraal: Mirjam uit Tenach\,  Maria uit het Nieuwe Testame
 nt en Maryam uit de Koran. Aan de hand van teksten uit de drie tradities â€
 “ zowel oude als heel recente teksten &#8211; staan we stil bij de[..]\nhtt
 ps://fonteinkerk-amersfoort.nl/events/de-mare-van-mirjam-maria-en-maryam/
URL:https://fonteinkerk-amersfoort.nl/events/de-mare-van-mirjam-maria-en-maryam/
END:VEVENT
END:VCALENDAR