BEGIN:VCALENDAR
VERSION:2.0
PRODID:-//eventon.com NONSGML v1.0//EN
CALSCALE:GREGORIAN
METHOD:PUBLISH
BEGIN:VEVENT
UID:69ea18daaec1e
DTSTAMP:20260423T130426Z
DTSTART:20260318T190000Z
DTEND:20260318T225900Z
LOCATION:Marcuskerk\,  Leusden Asschatterweg 1\,  3831 JJ Leusden
SUMMARY:Kennismaken met Iona (deel 3)
DESCRIPTION:De Fonteinkerk en de Protestantse Gemeente Leusden organiseren 
 een reis naar de abdij van Iona in het voorjaar van 2027. Ter voorbereiding
  zijn er drie avonden om alvast meer te leren over de kloostergemeenschap o
 p Iona De derde en laatste avond is een informatie-avond over de reis in 20
 27.\nhttps://fonteinkerk-amersfoort.nl/events/kennismaken-met-iona-deel-3/
URL:https://fonteinkerk-amersfoort.nl/events/kennismaken-met-iona-deel-3/
END:VEVENT
END:VCALENDAR