BEGIN:VCALENDAR
VERSION:2.0
PRODID:-//eventon.com NONSGML v1.0//EN
CALSCALE:GREGORIAN
METHOD:PUBLISH
BEGIN:VEVENT
UID:69ea04f77ea2c
DTSTAMP:20260423T113935Z
DTSTART:20260204T190000Z
DTEND:20260204T225900Z
LOCATION:Fonteinkerk Robert Kochstraat 2-4\,  3817 JM Amersfoort
SUMMARY:Kennismaken met Iona (deel 2)
DESCRIPTION:De Fonteinkerk en de Protestantse Gemeente Leusden organiseren 
 een reis naar de abdij van Iona in het voorjaar van 2027. Ter voorbereiding
  zijn er drie avonden om alvast meer te leren over de kloostergemeenschap o
 p Iona De tweede avond staat in het teken van de vieringen in de abdij: ove
 r[..]\nhttps://fonteinkerk-amersfoort.nl/events/kennismaken-met-iona-deel-2
 /
URL:https://fonteinkerk-amersfoort.nl/events/kennismaken-met-iona-deel-2/
END:VEVENT
END:VCALENDAR