BEGIN:VCALENDAR
VERSION:2.0
PRODID:-//eventon.com NONSGML v1.0//EN
CALSCALE:GREGORIAN
METHOD:PUBLISH
BEGIN:VEVENT
UID:69e9ec8e35cbf
DTSTAMP:20260423T095526Z
DTSTART:20260114T190000Z
DTEND:20260114T225900Z
LOCATION:Marcuskerk\,  Leusden Asschatterweg 1\,  3831 JJ Leusden
SUMMARY:Kennismaken met Iona (deel 1)
DESCRIPTION:De Fonteinkerk en de Protestantse Gemeente Leusden organiseren 
 een reis naar de abdij van Iona in het voorjaar van 2027. Ter voorbereiding
  zijn er drie avonden om alvast meer te leren over de kloostergemeenschap o
 p Iona De eerste avond staat in het teken van de ontstaansgeschiedenis van 
 het klooster en[..]\nhttps://fonteinkerk-amersfoort.nl/events/kennismaken-m
 et-iona-deel-1/
URL:https://fonteinkerk-amersfoort.nl/events/kennismaken-met-iona-deel-1/
END:VEVENT
END:VCALENDAR