BEGIN:VCALENDAR
VERSION:2.0
PRODID:-//eventon.com NONSGML v1.0//EN
CALSCALE:GREGORIAN
METHOD:PUBLISH
BEGIN:VEVENT
UID:69e9d95d66531
DTSTAMP:20260423T083333Z
DTSTART:20260127T190000Z
DTEND:20260127T225900Z
LOCATION:Fonteinkerk Robert Kochstraat 2-4\,  3817 JM Amersfoort
SUMMARY:Informatieavond Taizéreis
DESCRIPTION:Deze zomer organiseren de Protestantse Gemeente Leusden en de P
 KN Amersfoort weer een jongerenreis naar Taizé. Ben jij tussen de 16 en 35
  jaar en wil je graag mee? Kom dan naar de informatieavond op dinsdag 27 ja
 nuari. We willen graag weten wie er komen\,  daarom is het fijn als[..]\nht
 tps://fonteinkerk-amersfoort.nl/events/informatieavond-taizereis/
URL:https://fonteinkerk-amersfoort.nl/events/informatieavond-taizereis/
END:VEVENT
END:VCALENDAR