BEGIN:VCALENDAR
VERSION:2.0
PRODID:-//eventon.com NONSGML v1.0//EN
CALSCALE:GREGORIAN
METHOD:PUBLISH
BEGIN:VEVENT
UID:69e8a61fb21ac
DTSTAMP:20260422T104239Z
DTSTART:20180125T200000Z
DTEND:20180125T235000Z
LOCATION:Fonteinkerk Robert Kochstraat 2-4\,  3817 JM Amersfoort
SUMMARY:Leerhuis: Geloven zo gek nog niet
DESCRIPTION:Leerhuis: Geloven zo gek nog niet Op donderdagen 11 en 25 janua
 ri 2018 organiseert Vorming Door Ontmoeting twee Leerhuis-avonden met als t
 itel Geloven zo gek nog niet. Op deze twee avonden gaat Leo Koffeman in op 
 enkele spraakmakende atheïsten\,  en wat je van hun opvattingen zou  kunn
 en vinden. Atheïsme heeft[..]\nhttps://fonteinkerk-amersfoort.nl/events/le
 erhuis-geloven-zo-gek-nog/
URL:https://fonteinkerk-amersfoort.nl/events/leerhuis-geloven-zo-gek-nog/
END:VEVENT
END:VCALENDAR