BEGIN:VCALENDAR
VERSION:2.0
PRODID:-//eventon.com NONSGML v1.0//EN
CALSCALE:GREGORIAN
METHOD:PUBLISH
BEGIN:VEVENT
UID:69e9d941e5582
DTSTAMP:20260423T083305Z
DTSTART:20251224T183000Z
DTEND:20251224T191500Z
LOCATION:Fonteinkerk Robert Kochstraat 2-4\,  3817 JM Amersfoort
SUMMARY:Vesper op kerstavond
DESCRIPTION:Op de drempel van Kerst zoeken we met Fons de weg naar binnen. 
 Met stilte\,  bijbelteksten en meditatieve kerstmuziek proberen we iets van
  het mysterie van de komst van Christus op het spoor te komen.\nhttps://fon
 teinkerk-amersfoort.nl/events/vesper-op-kerstavond/
URL:https://fonteinkerk-amersfoort.nl/events/vesper-op-kerstavond/
END:VEVENT
END:VCALENDAR