BEGIN:VCALENDAR
VERSION:2.0
PRODID:-//eventon.com NONSGML v1.0//EN
CALSCALE:GREGORIAN
METHOD:PUBLISH
BEGIN:VEVENT
UID:69e9d94f9fd80
DTSTAMP:20260423T083319Z
DTSTART:20251223T180000Z
DTEND:20251223T225900Z
LOCATION:Fonteinkerk Robert Kochstraat 2-4\,  3817 JM Amersfoort
SUMMARY:Kersttheater jong en oud: De Wijzen
DESCRIPTION:door theatergezelschap &#8216;De Bijbel om je oren&#8217;. Een 
 theaterprogramma met liedjes en vertelling voor iedereen vanaf 4 t/m 100 ja
 ar. Na afloop traditiegetrouw warme chocomel en glühwein. (let op: dit jaa
 r dus kinderkerstfeest op 23 december en niet op kerstavond).\nhttps://font
 einkerk-amersfoort.nl/events/kersttheater-jong-en-oud-de-wijzen/
URL:https://fonteinkerk-amersfoort.nl/events/kersttheater-jong-en-oud-de-wijzen/
END:VEVENT
END:VCALENDAR