BEGIN:VCALENDAR
VERSION:2.0
PRODID:-//eventon.com NONSGML v1.0//EN
CALSCALE:GREGORIAN
METHOD:PUBLISH
BEGIN:VEVENT
UID:69e9eca6ed39d
DTSTAMP:20260423T095550Z
DTSTART:20251222T140000Z
DTEND:20251222T225900Z
LOCATION:Fonteinkerk Robert Kochstraat 2-4\,  3817 JM Amersfoort
SUMMARY:Kerstmiddag voor ouderen
DESCRIPTION:Kerstviering met veel oude kerstliederen. U bent welkom vanaf 1
 4.45 uur in de Fonteinkerk\,  Robert Kochstraat 2-4\,  3817 JM Amersfoort. 
 De viering begint om 15 uur en na afloop is er gelegenheid om elkaar te ont
 moeten onder het genot van iets lekkers.\nhttps://fonteinkerk-amersfoort.nl
 /events/kerstmiddag-voor-ouderen/
URL:https://fonteinkerk-amersfoort.nl/events/kerstmiddag-voor-ouderen/
END:VEVENT
END:VCALENDAR