BEGIN:VCALENDAR
VERSION:2.0
PRODID:-//eventon.com NONSGML v1.0//EN
CALSCALE:GREGORIAN
METHOD:PUBLISH
BEGIN:VEVENT
UID:69ea03ac94bcf
DTSTAMP:20260423T113404Z
DTSTART:20251221T110000Z
DTEND:20251221T225900Z
LOCATION:Fonteinkerk Robert Kochstraat 2-4\,  3817 JM Amersfoort
SUMMARY:Muziek en Ontmoeting: Moeder gezocht!
DESCRIPTION:In de serie muziek en ontmoeting\,  in de Fonteinkerk in Amersf
 oort op 16 november 2025 12.00 uur De wereld moet hoognodig gered worden. H
 et is dan ook niet zo gek dat God zijn top-engel Gabriël op een belangrijk
 e missie stuurt: hij moet de perfecte moeder vinden. Gabriël heeft nog wel
 [..]\nhttps://fonteinkerk-amersfoort.nl/events/muziek-en-ontmoeting-moeder-
 gezocht/
URL:https://fonteinkerk-amersfoort.nl/events/muziek-en-ontmoeting-moeder-gezocht/
END:VEVENT
END:VCALENDAR