BEGIN:VCALENDAR
VERSION:2.0
PRODID:-//eventon.com NONSGML v1.0//EN
CALSCALE:GREGORIAN
METHOD:PUBLISH
BEGIN:VEVENT
UID:69e9d7da107e7
DTSTAMP:20260423T082706Z
DTSTART:20251203T123000Z
DTEND:20251203T225900Z
LOCATION:
SUMMARY:Workshop Advent Opkomend licht in de duisternis
DESCRIPTION:Creatieve workshop onder leiding van Grady van den Bosch\,  kun
 stenaar. In de Adventstijd op woensdagmiddag 3 december is er onder leiding
  van Grady van den Bosch een creatieve workshop schilderen ‘Van donker na
 ar licht’. Onze inspiratiebronnen zijn een Bijbeltekst en inspiratiewoord
 en. Je kijkt naar wat dit voor jou persoonlijk betekent[..]\nhttps://fontei
 nkerk-amersfoort.nl/events/workshop-advent-opkomend-licht-in-de-duisternis/
URL:https://fonteinkerk-amersfoort.nl/events/workshop-advent-opkomend-licht-in-de-duisternis/
END:VEVENT
END:VCALENDAR