BEGIN:VCALENDAR
VERSION:2.0
PRODID:-//eventon.com NONSGML v1.0//EN
CALSCALE:GREGORIAN
METHOD:PUBLISH
BEGIN:VEVENT
UID:69e891d54195e
DTSTAMP:20260422T091605Z
DTSTART:20260314T083000Z
DTEND:20260314T123000Z
LOCATION:Fonteinkerk Robert Kochstraat 2-4\,  3817 JM Amersfoort
SUMMARY:Duurzame ruilbeurs voorjaar 2026
DESCRIPTION:Als je op zaterdag 14 maart 2026 wilt komen winkelen\,  dan is 
 de voorwaarde dat je éérst iets om te ruilen inbrengt. Dat kan op VRIJDAG
  13 MAART\,  tussen 15.00 en 20.00 UUR. Voor meer informatie kun je per e-m
 ail contact opnemen met VDO.\nhttps://fonteinkerk-amersfoort.nl/events/duur
 zame-ruilbeurs-voorjaar-2026/
URL:https://fonteinkerk-amersfoort.nl/events/duurzame-ruilbeurs-voorjaar-2026/
END:VEVENT
END:VCALENDAR