BEGIN:VCALENDAR
VERSION:2.0
PRODID:-//eventon.com NONSGML v1.0//EN
CALSCALE:GREGORIAN
METHOD:PUBLISH
BEGIN:VEVENT
UID:69e8a6facb633
DTSTAMP:20260422T104618Z
DTSTART:20251111T190000Z
DTEND:20251111T225900Z
LOCATION:Fonteinkerk Robert Kochstraat 2-4\,  3817 JM Amersfoort
SUMMARY:Ouder worden als ervaring
DESCRIPTION:Interactieve lezing door Suzanne Biewinga De vraag naar beteken
 isvol ouder worden is niet nieuw\,  maar in de eenentwintigste eeuw volstaa
 n traditionele antwoorden niet langer. Gangbare verhalen kloppen niet: oude
 r worden is niet ‘jong blijven’ en betekent evenmin alleen maar verlies
 . Maar wat is het dan wel? Filosoof Suzanne Biewinga richtte[..]\nhttps://f
 onteinkerk-amersfoort.nl/events/ouder-worden-als-ervaring/
URL:https://fonteinkerk-amersfoort.nl/events/ouder-worden-als-ervaring/
END:VEVENT
END:VCALENDAR