BEGIN:VCALENDAR
VERSION:2.0
PRODID:-//eventon.com NONSGML v1.0//EN
CALSCALE:GREGORIAN
METHOD:PUBLISH
BEGIN:VEVENT
UID:69e8bac8e5fae
DTSTAMP:20260422T121048Z
DTSTART:20251105T090000Z
DTEND:20251105T210000Z
LOCATION:Fonteinkerk Robert Kochstraat 2-4\,  3817 JM Amersfoort
SUMMARY:Leerhuis de Mare\,  over Maryam\,  Maria en Mirjam
DESCRIPTION:Vorming Door ontmoeting organiseert hetleerhuis ‘de Mare van 
 Mirjam\,  Maria en Maryam’. Op vier woensdagochtenden in de maand novembe
 r staan in een Leerhuis vrouwen van aanzien centraal: Mirjam uit Tenach\,  
 Maria uit het Nieuwe Testament en Maryam uit de Koran. Aan de hand van teks
 ten uit de drie tradities –[..]\nhttps://fonteinkerk-amersfoort.nl/events
 /leerhuis-de-mare/
URL:https://fonteinkerk-amersfoort.nl/events/leerhuis-de-mare/
END:VEVENT
END:VCALENDAR