BEGIN:VCALENDAR
VERSION:2.0
PRODID:-//eventon.com NONSGML v1.0//EN
CALSCALE:GREGORIAN
METHOD:PUBLISH
BEGIN:VEVENT
UID:69e8d3a69da4f
DTSTAMP:20260422T135654Z
DTSTART:20251010T180000Z
DTEND:20251010T215900Z
LOCATION:Fonteinkerk Robert Kochstraat 2-4\,  3817 JM Amersfoort
SUMMARY:Wees Erbij Café: Wie zijn de herenboeren en wat doen ze?
DESCRIPTION:Vorming door Ontmoeting organiseert met de commissie Duurzaamhe
 id een themavond waarin Marian Hakze van Herenboeren Amersfoort vertelt. He
 renboeren is een burgerinitiatief. Met als motto:‘Samen Duurzaam Voedsel 
 Produceren’. Er zijn al 23 Herenboerderijen\,  verspreid over heel Nederl
 and\,  en nog eens tientallen in oprichting. Samen maakt dat al meer dan 90
 00 Herenboeren![..]\nhttps://fonteinkerk-amersfoort.nl/events/wees-erbij-ca
 fe-wie-zijn-de-herenboeren-en-wat-doen-ze/
URL:https://fonteinkerk-amersfoort.nl/events/wees-erbij-cafe-wie-zijn-de-herenboeren-en-wat-doen-ze/
END:VEVENT
END:VCALENDAR