BEGIN:VCALENDAR
VERSION:2.0
PRODID:-//eventon.com NONSGML v1.0//EN
CALSCALE:GREGORIAN
METHOD:PUBLISH
BEGIN:VEVENT
UID:69e8ba75ce9f4
DTSTAMP:20260422T120925Z
DTSTART:20250912T180000Z
DTEND:20250912T215900Z
LOCATION:Fonteinkerk Robert Kochstraat 2-4\,  3817 JM Amersfoort
SUMMARY:Wees Erbij Café: In de geest van Martin Buber
DESCRIPTION:Vorming door Ontmoeting organiseert een avond met Chassidische 
 vertellingen en liedjes\,  onder leiding van Bette Westra en Diederik van E
 ssel. Kinderboekenschrijver Bette Westera selecteerde uit Martin Bubers ver
 zameling ‘Chassidische verhalen’ enkele pareltjes voor haar boekje In d
 e geest van Martin Buber. Die pareltjes klinken op vrijdagavond 12 septembe
 r in Huis[..]\nhttps://fonteinkerk-amersfoort.nl/events/in-de-geest-van-mar
 tin-buber/
URL:https://fonteinkerk-amersfoort.nl/events/in-de-geest-van-martin-buber/
END:VEVENT
END:VCALENDAR