BEGIN:VCALENDAR
VERSION:2.0
PRODID:-//eventon.com NONSGML v1.0//EN
CALSCALE:GREGORIAN
METHOD:PUBLISH
BEGIN:VEVENT
UID:69e8a649e3c13
DTSTAMP:20260422T104321Z
DTSTART:20250816T080000Z
DTEND:20250816T215900Z
LOCATION:Fonteinkerk Robert Kochstraat 2-4\,  3817 JM Amersfoort
SUMMARY:Zomerziel 2025
DESCRIPTION:Tu es caritas\,  tu es amor / houden van God met lijf en ziel V
 orming Door Ontmoeting organiseert in de ochtenden van zaterdag 19 juli en 
 zaterdqg 16 augustus Zomerziel\,  onder de bezielende leidingvan Marco last
 . Twee stille zaterdagochtenden van reflectie en meditatie rondom poëzie\,
   muziek en kunst. Franciscus van[..]\nhttps://fonteinkerk-amersfoort.nl/ev
 ents/zomerziel-2025/
URL:https://fonteinkerk-amersfoort.nl/events/zomerziel-2025/
END:VEVENT
END:VCALENDAR