BEGIN:VCALENDAR
VERSION:2.0
PRODID:-//eventon.com NONSGML v1.0//EN
CALSCALE:GREGORIAN
METHOD:PUBLISH
BEGIN:VEVENT
UID:69e8a5eb09cfe
DTSTAMP:20260422T104147Z
DTSTART:20250412T173000Z
DTEND:20250412T215900Z
LOCATION:Fonteinkerk Robert Kochstraat 2-4\,  3817 JM Amersfoort
SUMMARY:Paasoratorium: Het Lam dat ons doet leven
DESCRIPTION:Meezingen in Paasoratorium Op zaterdag 12 april wordt &#8217;s 
 avonds om half acht een Paasoratorium van Dirk Zwart uitgevoerd in de Fonte
 inkerk. Wil je meezingen\,  dan kun je &#8217;s middags je partij komen ino
 efenen. Meld je dan voor meer informatie aan via info@compositiefonds.nl. 
  Plaats: Fonteinkerk\,  Huis van ZuidData: zaterdag 12[..]\nhttps://fontein
 kerk-amersfoort.nl/events/paasoratorium-2025/
URL:https://fonteinkerk-amersfoort.nl/events/paasoratorium-2025/
END:VEVENT
END:VCALENDAR