BEGIN:VCALENDAR
VERSION:2.0
PRODID:-//eventon.com NONSGML v1.0//EN
CALSCALE:GREGORIAN
METHOD:PUBLISH
BEGIN:VEVENT
UID:69e9e9ee648f3
DTSTAMP:20260423T094414Z
DTSTART:20250327T190000Z
DTEND:20250327T225900Z
LOCATION:Fonteinkerk Robert Kochstraat 2-4\,  3817 JM Amersfoort
SUMMARY:Iedereen is op weg\,  maar hoe?
DESCRIPTION:Exodusmomenten als leidraad naar Pasen\,  begeleiding Felicia D
 ekkers Wij zijn allemaal onderweg. Waar ga je heen in dit leven? Wie of wat
  is jouw leidraad? Wie lopen er met jou op? Soms ontmoet je onverwacht een 
 metgezel. Het exodusverhaal biedt wonderlijk genoeg inzicht in zeven fases 
 van die levensweg. In[..]\nhttps://fonteinkerk-amersfoort.nl/events/iederee
 n-is-op-weg/
URL:https://fonteinkerk-amersfoort.nl/events/iedereen-is-op-weg/
END:VEVENT
END:VCALENDAR