BEGIN:VCALENDAR
VERSION:2.0
PRODID:-//eventon.com NONSGML v1.0//EN
CALSCALE:GREGORIAN
METHOD:PUBLISH
BEGIN:VEVENT
UID:69e9eb4c9d252
DTSTAMP:20260423T095004Z
DTSTART:20250223T113000Z
DTEND:20250223T225900Z
LOCATION:Fonteinkerk Robert Kochstraat 2-4\,  3817 JM Amersfoort
SUMMARY:Johannes Passion verkennen\,  beluisteren en bespreken
DESCRIPTION:Met de Johannes Passion begon Johann Sebastian Bach op Goede Vr
 ijdag 1724 aan zijn eerste van zijn drie Passionen voor die Christelijke ge
 denkdag. Dat was geen experiment want hij had toen al tientallen Kerk Canta
 tes geschreven maar een werk uitgaande van één verhaal en dan op veel gro
 tere schaal dan[..]\nhttps://fonteinkerk-amersfoort.nl/events/johannes-pass
 ion-2025/
URL:https://fonteinkerk-amersfoort.nl/events/johannes-passion-2025/
END:VEVENT
END:VCALENDAR