BEGIN:VCALENDAR
VERSION:2.0
PRODID:-//eventon.com NONSGML v1.0//EN
CALSCALE:GREGORIAN
METHOD:PUBLISH
BEGIN:VEVENT
UID:69e9ef73bad7a
DTSTAMP:20260423T100747Z
DTSTART:20250328T140000Z
DTEND:20250329T130000Z
LOCATION:Fonteinkerk Robert Kochstraat 2-4\,  3817 JM Amersfoort
SUMMARY:Duurzame ruilbeurs voorjaar 2025
DESCRIPTION:Als je op zaterdag 29 maart a.s. wilt komen winkelen\,  dan is 
 de voorwaarde dat je éérst iets om te ruilen inbrengt. Dat kan op VRIJDAG
  28 maart\,  tussen 15.00 en 20.00 UUR. Voor meer informatie kun je per e-m
 ail contact opnemen met VDO.\nhttps://fonteinkerk-amersfoort.nl/events/duur
 zame-ruilbeurs-voorjaar-2025/
URL:https://fonteinkerk-amersfoort.nl/events/duurzame-ruilbeurs-voorjaar-2025/
END:VEVENT
END:VCALENDAR