BEGIN:VCALENDAR
VERSION:2.0
PRODID:-//eventon.com NONSGML v1.0//EN
CALSCALE:GREGORIAN
METHOD:PUBLISH
BEGIN:VEVENT
UID:69e8bb21f05cf
DTSTAMP:20260422T121217Z
DTSTART:20251116T110000Z
DTEND:20251116T225900Z
LOCATION:Fonteinkerk Robert Kochstraat 2-4\,  3817 JM Amersfoort
SUMMARY:Muziek en Ontmoeting: Maxime Snaterse
DESCRIPTION:Vleugelrecital door Maxime Snaterse: gevierde meesters en verge
 ten vrouwen In de serie muziek en ontmoeting\,  in de Fonteinkerk in Amersf
 oort op 16 november 2025 12.00 uur De Nederlandse pianiste Maxime Snaterse 
 (1996) sloot in 2018 haar Bachelor of Music cum laude af aan het ArtEZ Cons
 ervatorium\,  waar ze les kreeg[..]\nhttps://fonteinkerk-amersfoort.nl/even
 ts/maxime-snaterse-2025/
URL:https://fonteinkerk-amersfoort.nl/events/maxime-snaterse-2025/
END:VEVENT
END:VCALENDAR