BEGIN:VCALENDAR
VERSION:2.0
PRODID:-//eventon.com NONSGML v1.0//EN
CALSCALE:GREGORIAN
METHOD:PUBLISH
BEGIN:VEVENT
UID:69e8a5bc4e83a
DTSTAMP:20260422T104100Z
DTSTART:20250601T100000Z
DTEND:20250601T215900Z
LOCATION:Fonteinkerk Robert Kochstraat 2-4\,  3817 JM Amersfoort
SUMMARY:Muziek en Ontmoeting: Kamerkoor Venus
DESCRIPTION:In de juni uitgave van Muziek en Ontmoeting Kamerkoor Venus opn
 ieuw haar opwachting. In de serie muziek en ontmoeting\,  in de Fonteinkerk
  in Amersfoort op 1 juni 2025 12:00 uur “Kom met het licht van de sterren
  mijn lief\,  en sluit mijn oogleden met jouw kus.” Il giardino di Aphrod
 ite[..]\nhttps://fonteinkerk-amersfoort.nl/events/muziek-en-ontmoeting-kame
 rkoor-venus-2025/
URL:https://fonteinkerk-amersfoort.nl/events/muziek-en-ontmoeting-kamerkoor-venus-2025/
END:VEVENT
END:VCALENDAR