BEGIN:VCALENDAR
VERSION:2.0
PRODID:-//eventon.com NONSGML v1.0//EN
CALSCALE:GREGORIAN
METHOD:PUBLISH
BEGIN:VEVENT
UID:69e91be6a59e5
DTSTAMP:20260422T190510Z
DTSTART:20180309T200000Z
DTEND:20180309T235000Z
LOCATION:Fonteinkerk Robert Kochstraat 2-4\,  3817 JM Amersfoort
SUMMARY:Wees erbij café: op de catwalk
DESCRIPTION:Wees erbij café: op de catwalk\,  schone kleding van Sari Welk
 om bij het WeesErBijCafé op vrijdag 9 maart; die avond staat Sari Fair Fas
 hion centraal. SARI staat voor fair fashion\,  duurzame kleding en accesso
 ires die voldoen aan fairtrade voorwaarden en recht doen aan producenten en
  milieu wereldwijd. Na een korte inleiding[..]\nhttps://fonteinkerk-amersfo
 ort.nl/events/wees-erbij-cafe-op-de-catwalk-schone-kleding-van-sari/
URL:https://fonteinkerk-amersfoort.nl/events/wees-erbij-cafe-op-de-catwalk-schone-kleding-van-sari/
END:VEVENT
END:VCALENDAR