BEGIN:VCALENDAR
VERSION:2.0
PRODID:-//eventon.com NONSGML v1.0//EN
CALSCALE:GREGORIAN
METHOD:PUBLISH
BEGIN:VEVENT
UID:69e8a8849c8e3
DTSTAMP:20260422T105252Z
DTSTART:20250413T100000Z
DTEND:20250413T215900Z
LOCATION:Fonteinkerk Robert Kochstraat 2-4\,  3817 JM Amersfoort
SUMMARY:Muziek en Ontmoeting: open podium Fonteinkerk
DESCRIPTION:De kans voor Fonteinkerkers om hun talenten te laten zien en te
  horen. Met medewerking van Marco Last\,  Marion Vorage\,  Jelle Koolstra e
 n Andrew Vromans. U bent welkom vanaf 11.30 uur in de Fonteinkerk\,  Robert
  Kochstraat 2-4\,  3817 JM Amersfoort. Het concert begint om 12 uur en na a
 floop is[..]\nhttps://fonteinkerk-amersfoort.nl/events/muziek-en-ontmoeting
 -open-podium-fonteinkerk/
URL:https://fonteinkerk-amersfoort.nl/events/muziek-en-ontmoeting-open-podium-fonteinkerk/
END:VEVENT
END:VCALENDAR