BEGIN:VCALENDAR
VERSION:2.0
PRODID:-//eventon.com NONSGML v1.0//EN
CALSCALE:GREGORIAN
METHOD:PUBLISH
BEGIN:VEVENT
UID:69e89e944a85f
DTSTAMP:20260422T101028Z
DTSTART:20250216T110000Z
DTEND:20250216T225900Z
LOCATION:Fonteinkerk Robert Kochstraat 2-4\,  3817 JM Amersfoort
SUMMARY:Muziek en Ontmoeting: vocaal ensemble Joli Cuer
DESCRIPTION:Tijdens de eerste Muziek en Ontmoeting van 2025 maakt vocaal en
 semble Joli Cuer haar opwachting. Joli Cuer bestaat uit vier geoefende zang
 ers die muziek uit de 15e en 16e gaat voor u gaan zingen. Zij waren ooit ee
 rder te gast en maakten toen indruk door op creatieve en ludieke wijze[..]\
 nhttps://fonteinkerk-amersfoort.nl/events/joli-cuer-februari-2025/
URL:https://fonteinkerk-amersfoort.nl/events/joli-cuer-februari-2025/
END:VEVENT
END:VCALENDAR