BEGIN:VCALENDAR
VERSION:2.0
PRODID:-//eventon.com NONSGML v1.0//EN
CALSCALE:GREGORIAN
METHOD:PUBLISH
BEGIN:VEVENT
UID:69e903e0e4293
DTSTAMP:20260422T172240Z
DTSTART:20180126T200000Z
DTEND:20180126T235000Z
LOCATION:Fonteinkerk Robert Kochstraat 2-4\,  3817 JM Amersfoort
SUMMARY:Wees erbij café: Schuren en scheppen\,  met Roel Ottow
DESCRIPTION:Wees erbij café: Roel Ottow\,  Schuren en scheppen Thema-avond
  rond de expositie van kunstenaar Roel Ottow\,  thema Schuren en Scheppen; 
 observaties en anekdotes over o.a. kunst en kerk. Roel Ottow is een van de 
 drijvende krachten van het Platform Kerk en Kunst\,  dat afgelopen najaar h
 et symposium Schuren en Scheppen[..]\nhttps://fonteinkerk-amersfoort.nl/eve
 nts/wees-erbij-cafe-roel-ottow/
URL:https://fonteinkerk-amersfoort.nl/events/wees-erbij-cafe-roel-ottow/
END:VEVENT
END:VCALENDAR