BEGIN:VCALENDAR
VERSION:2.0
PRODID:-//eventon.com NONSGML v1.0//EN
CALSCALE:GREGORIAN
METHOD:PUBLISH
BEGIN:VEVENT
UID:69e8b4e1b6f4b
DTSTAMP:20260422T114537Z
DTSTART:20250122T190000Z
DTEND:20250122T225900Z
LOCATION:Fonteinkerk Robert Kochstraat 2-4\,  3817 JM Amersfoort
SUMMARY:Mondriaan daagt uit
DESCRIPTION:Op dit zelfportret de man die onze aandacht vraagt: Piet Mondri
 aan. Geschilderd in 1908 laat hij ons zien zoals hij graag gezien wil worde
 n. Met een door-dringende en ont-dekkende blik van een kunstenaar die de ti
 jd waarin hij leeft\,  denkt te kúnnen doorzien. Tegelijkertijd doet die b
 lik een appèl op[..]\nhttps://fonteinkerk-amersfoort.nl/events/mondriaan/
URL:https://fonteinkerk-amersfoort.nl/events/mondriaan/
END:VEVENT
END:VCALENDAR