BEGIN:VCALENDAR
VERSION:2.0
PRODID:-//eventon.com NONSGML v1.0//EN
CALSCALE:GREGORIAN
METHOD:PUBLISH
BEGIN:VEVENT
UID:69e8cd447cbca
DTSTAMP:20260422T132940Z
DTSTART:20250119T140000Z
DTEND:20250119T225900Z
LOCATION:Fonteinkerk Robert Kochstraat 2-4\,  3817 JM Amersfoort
SUMMARY:Intrededienst ds. Anna Walsma
DESCRIPTION:Nadere informatie volgt!\nhttps://fonteinkerk-amersfoort.nl/eve
 nts/intrededienst-ds-anna-walsma/
URL:https://fonteinkerk-amersfoort.nl/events/intrededienst-ds-anna-walsma/
END:VEVENT
END:VCALENDAR