BEGIN:VCALENDAR
VERSION:2.0
PRODID:-//eventon.com NONSGML v1.0//EN
CALSCALE:GREGORIAN
METHOD:PUBLISH
BEGIN:VEVENT
UID:69e8e41f9e777
DTSTAMP:20260422T150711Z
DTSTART:20241201T110000Z
DTEND:20250228T120000Z
LOCATION:Fonteinkerk Robert Kochstraat 2-4\,  3817 JM Amersfoort
SUMMARY:Expositie Henny Timmerman
DESCRIPTION:Henny is een ervaren kunstenares. Zij begon met weven en ging l
 ater over op aquarel. Nu schildert zij met acryl en zoekt altijd naar verni
 euwing.Julia van Raamsdonk heeft haar ruim twintig jaar begeleid. Henny&#82
 17;s werk is een weerspiegeling van haar groei en passie. Wees welkom bij h
 aar expositiein Huis van[..]\nhttps://fonteinkerk-amersfoort.nl/events/expo
 sitie-henny-timmerman/
URL:https://fonteinkerk-amersfoort.nl/events/expositie-henny-timmerman/
END:VEVENT
END:VCALENDAR