BEGIN:VCALENDAR
VERSION:2.0
PRODID:-//eventon.com NONSGML v1.0//EN
CALSCALE:GREGORIAN
METHOD:PUBLISH
BEGIN:VEVENT
UID:69e8a5bb9fa2e
DTSTAMP:20260422T104059Z
DTSTART:20241204T190000Z
DTEND:20241204T225900Z
LOCATION:
SUMMARY:Workshop Adventschilderen 2024
DESCRIPTION:Heb je ook zin om mee te helpen schilderen aan twee nieuwe pane
 len voor in de kerkzaal? De huidige panelen zijn duidelijk aan vervanging t
 oe\,  nu de kleuren verbleken. Met het jaarthema ‘Als Nieuw’ gaan we aa
 n het werk om nieuwe panelen te schilderen en te tekenen. Als leidraad gebr
 uiken[..]\nhttps://fonteinkerk-amersfoort.nl/events/adventschilderen-2024/
URL:https://fonteinkerk-amersfoort.nl/events/adventschilderen-2024/
END:VEVENT
END:VCALENDAR