BEGIN:VCALENDAR
VERSION:2.0
PRODID:-//eventon.com NONSGML v1.0//EN
CALSCALE:GREGORIAN
METHOD:PUBLISH
BEGIN:VEVENT
UID:69e8a649a8508
DTSTAMP:20260422T104321Z
DTSTART:20171210T100000Z
DTEND:20171210T235000Z
LOCATION:Fonteinkerk Robert Kochstraat 2-4\,  3817 JM Amersfoort
SUMMARY:TOP2000 kerkdienst
DESCRIPTION:TOP2000 kerkdienst Zondag 10 december 2017 organiseren we weer
  een Top 2000 kerkdienst in de Fonteinkerk . We luisteren dan naar popson
 gs over geloof\,  hoop en liefde. Fonteiners en andere bezoekers kunnen 
 invulling geven aan deze dienst door vooraf aan te geven welk liedje hen i
 nspireert\,  troost biedt\,  blij maakt of hoop geeft. De keuze voor een l
 iedje mag[..]\nhttps://fonteinkerk-amersfoort.nl/events/top2000/
URL:https://fonteinkerk-amersfoort.nl/events/top2000/
END:VEVENT
END:VCALENDAR