BEGIN:VCALENDAR
VERSION:2.0
PRODID:-//eventon.com NONSGML v1.0//EN
CALSCALE:GREGORIAN
METHOD:PUBLISH
BEGIN:VEVENT
UID:69e91a8ee2154
DTSTAMP:20260422T185926Z
DTSTART:20240901T100000Z
DTEND:20241201T120000Z
LOCATION:Fonteinkerk Robert Kochstraat 2-4\,  3817 JM Amersfoort
SUMMARY:Expositie Roel Heijmans
DESCRIPTION:Roel Heijmans.is kunstenaar in hart en nieren. Tijdens zijn geb
 oorte kreeg Roel een hersenbloeding\,  hierdoor is hij spastisch en maakt h
 ij veel ongecontroleerde bewegingen. Erg lastig als je kunstenaar bent\,  z
 ul je denken\,  maar dit houdt Roel niet tegen. Hij heeft ongeveer 8 jaar i
 n het Atelier van de Amerpoort\, [..]\nhttps://fonteinkerk-amersfoort.nl/ev
 ents/expositie-roel-heijmans/
URL:https://fonteinkerk-amersfoort.nl/events/expositie-roel-heijmans/
END:VEVENT
END:VCALENDAR