BEGIN:VCALENDAR
VERSION:2.0
PRODID:-//eventon.com NONSGML v1.0//EN
CALSCALE:GREGORIAN
METHOD:PUBLISH
BEGIN:VEVENT
UID:69e900ac0fbf6
DTSTAMP:20260422T170900Z
DTSTART:20240924T180000Z
DTEND:20240924T215900Z
LOCATION:Fonteinkerk Robert Kochstraat 2-4\,  3817 JM Amersfoort
SUMMARY:De beste helft - Samen wijzer worden
DESCRIPTION:Wat wil je later worden? Die vraag krijg je vaak als kind. En e
 r komt een moment dat je iets bent geworden. En dan? Vroeger of later lopen
  mensen tegen de grenzen op van wat ze zijn geworden: verveling\,  een rela
 tiebreuk\,  oud zeer dat opspeelt. Dat lijkt op een probleem\, [..]\nhttps:
 //fonteinkerk-amersfoort.nl/events/de-beste-helft-samen-wijzer-worden/
URL:https://fonteinkerk-amersfoort.nl/events/de-beste-helft-samen-wijzer-worden/
END:VEVENT
END:VCALENDAR