BEGIN:VCALENDAR
VERSION:2.0
PRODID:-//eventon.com NONSGML v1.0//EN
CALSCALE:GREGORIAN
METHOD:PUBLISH
BEGIN:VEVENT
UID:69e8eaf68bfa3
DTSTAMP:20260422T153622Z
DTSTART:20240929T100000Z
DTEND:20240929T215900Z
LOCATION:Fonteinkerk Robert Kochstraat 2-4\,  3817 JM Amersfoort
SUMMARY:Muziek en Ontmoeting: Hanneke Rouw
DESCRIPTION:Tijdens deze Muziek&amp;Ontmoeting gaat u genieten van drie cel
 lo sonates gespeeld door Hanneke Rouw en begeleid door Maxime Snaterse op d
 e vleugel. Hanneke Rouw is op acht jarige leeftijd begonnen met cello spele
 n. Met veel plezier heeft ze lessen gevolgd bij Rata Kloppenburg en maria H
 ol. Op haar zestiende speelde[..]\nhttps://fonteinkerk-amersfoort.nl/events
 /muziek-en-ontmoeting-hanneke-rouw/
URL:https://fonteinkerk-amersfoort.nl/events/muziek-en-ontmoeting-hanneke-rouw/
END:VEVENT
END:VCALENDAR