BEGIN:VCALENDAR
VERSION:2.0
PRODID:-//eventon.com NONSGML v1.0//EN
CALSCALE:GREGORIAN
METHOD:PUBLISH
BEGIN:VEVENT
UID:69e8d3b10b26e
DTSTAMP:20260422T135705Z
DTSTART:20240922T203000Z
DTEND:20240923T105900Z
LOCATION:Fonteinkerk Robert Kochstraat 2-4\,  3817 JM Amersfoort
SUMMARY:Gemeentezondag 2024-2025
DESCRIPTION:Gemeentezondag Op zondag 22 september a.s. trappen we het seizo
 en af met de traditionele Gemeentezondag. Details volgen binnenkort!\nhttps
 ://fonteinkerk-amersfoort.nl/events/gemeentezondag-2024-2025/
URL:https://fonteinkerk-amersfoort.nl/events/gemeentezondag-2024-2025/
END:VEVENT
END:VCALENDAR