BEGIN:VCALENDAR
VERSION:2.0
PRODID:-//eventon.com NONSGML v1.0//EN
CALSCALE:GREGORIAN
METHOD:PUBLISH
BEGIN:VEVENT
UID:69e8ba5eb9f2d
DTSTAMP:20260422T120902Z
DTSTART:20240602T100000Z
DTEND:20240905T110000Z
LOCATION:Fonteinkerk Robert Kochstraat 2-4\,  3817 JM Amersfoort
SUMMARY:Zomerexpositie 2024
DESCRIPTION:De zomerexpositie Schepping heeft een extra dimensie gekregen m
 et de serie Klimaat van Margreet Michel Verkerke. Extra actueel nu wij ons 
 grote zorgen maken om het klimaat. “Omdat ik de Oostzaal na het ophangen 
 van de serie ‘Er zij&#8230;’ toch nog wat leeg vond\,  kwam ik op het i
 dee om[..]\nhttps://fonteinkerk-amersfoort.nl/events/zomerexpositie-2024-sc
 hepping/
URL:https://fonteinkerk-amersfoort.nl/events/zomerexpositie-2024-schepping/
END:VEVENT
END:VCALENDAR