BEGIN:VCALENDAR
VERSION:2.0
PRODID:-//eventon.com NONSGML v1.0//EN
CALSCALE:GREGORIAN
METHOD:PUBLISH
BEGIN:VEVENT
UID:69e8a6729e492
DTSTAMP:20260422T104402Z
DTSTART:20240616T100000Z
DTEND:20240616T215900Z
LOCATION:Fonteinkerk Robert Kochstraat 2-4\,  3817 JM Amersfoort
SUMMARY:Muziek en Ontmoeting: Ad Hoc Symfonieorkest
DESCRIPTION:Het Ad Hoc Orkest is een symfonieorkest met 40 enthousiaste ama
 teurmusici. Dit jaar viert het orkest haar 50- jarig jubileum! Het orkest s
 taat onder leiding van Mark Snitselaar\,  en naast de hoge kwaliteit is ook
  het plezier in de muziek een belangrijke doelstelling. Dat plezier deelt h
 et orkest graag met[..]\nhttps://fonteinkerk-amersfoort.nl/events/ad-hoc-sy
 mfonieorkest/
URL:https://fonteinkerk-amersfoort.nl/events/ad-hoc-symfonieorkest/
END:VEVENT
END:VCALENDAR