BEGIN:VCALENDAR
VERSION:2.0
PRODID:-//eventon.com NONSGML v1.0//EN
CALSCALE:GREGORIAN
METHOD:PUBLISH
BEGIN:VEVENT
UID:69e8a5ea2594c
DTSTAMP:20260422T104146Z
DTSTART:20240526T100000Z
DTEND:20240526T215900Z
LOCATION:Fonteinkerk Robert Kochstraat 2-4\,  3817 JM Amersfoort
SUMMARY:Muziek en Ontmoeting: When Birds Come Back
DESCRIPTION:&#8216;Hope&#8217; is the thing with feathersThat perches in th
 e soulAnd sings the tune without the wordsAnd never stops at all &#8216;Hoo
 p&#8217; is dat ding met veren\,  schreef Emily Dickinson in achttienhonder
 d-zoveel. Dat ding met veren &#8211; bontgekleurde hartstochtelijke verschi
 jningen: vogels\,  engelen\,  courtisanes met verentooien. In dit programma
  komen ze allemaal[..]\nhttps://fonteinkerk-amersfoort.nl/events/muziek-en-
 ontmoeting-when-birds-come-back/
URL:https://fonteinkerk-amersfoort.nl/events/muziek-en-ontmoeting-when-birds-come-back/
END:VEVENT
END:VCALENDAR