BEGIN:VCALENDAR
VERSION:2.0
PRODID:-//eventon.com NONSGML v1.0//EN
CALSCALE:GREGORIAN
METHOD:PUBLISH
BEGIN:VEVENT
UID:69e8a6fc05af6
DTSTAMP:20260422T104620Z
DTSTART:20240529T180000Z
DTEND:20240529T215900Z
LOCATION:Fonteinkerk Robert Kochstraat 2-4\,  3817 JM Amersfoort
SUMMARY:Er is leven na de groei – Hoe we onze toekomst realistisch veiligstellen
DESCRIPTION:Stoppen met economische groei\,  maar groeien in geluk\,  op ee
 n leefbare aarde\,  is dat mogelijk? Stel je voor: een Nederland dat binnen
  de draagkracht van de aarde leeft. Een land waarin economische groei niet 
 meer voorop staat\,  terwijl de welvaart van verreweg de meeste Nederlander
 s intact blijft. Een land waarin[..]\nhttps://fonteinkerk-amersfoort.nl/eve
 nts/er-is-leven-na-de-groei/
URL:https://fonteinkerk-amersfoort.nl/events/er-is-leven-na-de-groei/
END:VEVENT
END:VCALENDAR