BEGIN:VCALENDAR
VERSION:2.0
PRODID:-//eventon.com NONSGML v1.0//EN
CALSCALE:GREGORIAN
METHOD:PUBLISH
BEGIN:VEVENT
UID:69e8bac8e647a
DTSTAMP:20260422T121048Z
DTSTART:20240513T060000Z
DTEND:20240513T105900Z
LOCATION:Fonteinkerk Robert Kochstraat 2-4\,  3817 JM Amersfoort
SUMMARY:Jeugddienst
DESCRIPTION:Jeugddienst PGA Dé Jeugddienst van het jaar voor alle tieners 
 in Amersfoort en Leusden. Het centrale thema: waar maak jij je druk om? Je
  familie? Je uiterlijk? Je social media account? Het milieu? Je huiswerk? O
 orlog? Geld? Iets heel anders\,  namelijk&#8230;. Zondag 12 mei a.s. praten
  we hierover met elkaar. En[..]\nhttps://fonteinkerk-amersfoort.nl/events/j
 eugddienst-2024-05/
URL:https://fonteinkerk-amersfoort.nl/events/jeugddienst-2024-05/
END:VEVENT
END:VCALENDAR