BEGIN:VCALENDAR
VERSION:2.0
PRODID:-//eventon.com NONSGML v1.0//EN
CALSCALE:GREGORIAN
METHOD:PUBLISH
BEGIN:VEVENT
UID:69e8d35e57e2c
DTSTAMP:20260422T135542Z
DTSTART:20240421T100000Z
DTEND:20240421T215000Z
LOCATION:Fonteinkerk Robert Kochstraat 2-4\,  3817 JM Amersfoort
SUMMARY:Muziek en Ontmoeting: Cappella Fontana
DESCRIPTION:O Primavera! Muziek over lente en liefdeHet voorjaar is in deze
  tijd van het jaar een voor de hand liggend thema\,  evenals de (ontluikend
 e) liefde. Tal van componisten hebben daar muziek over geschreven. We laten
  werken uit verschillende stijlperiodes horen. Na een licht carnavaleske op
 ening met Orazio Vecchi (So ben[..]\nhttps://fonteinkerk-amersfoort.nl/even
 ts/muziek-en-ontmoeting-cappella-fontana/
URL:https://fonteinkerk-amersfoort.nl/events/muziek-en-ontmoeting-cappella-fontana/
END:VEVENT
END:VCALENDAR