BEGIN:VCALENDAR
VERSION:2.0
PRODID:-//eventon.com NONSGML v1.0//EN
CALSCALE:GREGORIAN
METHOD:PUBLISH
BEGIN:VEVENT
UID:69e8e9f5d18fa
DTSTAMP:20260422T153205Z
DTSTART:20240411T180000Z
DTEND:20240411T215900Z
LOCATION:Fonteinkerk Robert Kochstraat 2-4\,  3817 JM Amersfoort
SUMMARY:Schrijf je eigen Psalm
DESCRIPTION:Twee meditatieve schrijfavonden tussen Pasen en Pinksteren o.l.
 v. Gert Ryokan Bremer Als mijn psalmen jou naar je eigen hart brengen en da
 ar een snaar gaat trillen\,  een woord of gedachte gaat rondzingen\,  dan i
 s de opzet van mijn boek geslaagd. Wat waarom zouden jouw eigen woorden min
 der geloof dragen dan[..]\nhttps://fonteinkerk-amersfoort.nl/events/schrijf
 -je-eigen-psalm/
URL:https://fonteinkerk-amersfoort.nl/events/schrijf-je-eigen-psalm/
END:VEVENT
END:VCALENDAR