BEGIN:VCALENDAR
VERSION:2.0
PRODID:-//eventon.com NONSGML v1.0//EN
CALSCALE:GREGORIAN
METHOD:PUBLISH
BEGIN:VEVENT
UID:69e8a6198bf98
DTSTAMP:20260422T104233Z
DTSTART:20171121T200000Z
DTEND:20171121T235000Z
LOCATION:Johanneskerk Westsingel 30
SUMMARY:Heilige onrust
DESCRIPTION:Heilige onrust: spiritualiteit in het spoor van pelgrims nieuwe
  stijl Onlangs verscheen het boek Heilige Onrust – Een pelgrimage naar he
 t hart van de religie. Auteur is de van huis uit gereformeerde theoloog en 
 ethicus Frits de Lange (1955). Hij gelooft zoals vele generatiegenoten niet
  meer in een Opperwezen en[..]\nhttps://fonteinkerk-amersfoort.nl/events/he
 ilige-onrust/
URL:https://fonteinkerk-amersfoort.nl/events/heilige-onrust/
END:VEVENT
END:VCALENDAR