BEGIN:VCALENDAR
VERSION:2.0
PRODID:-//eventon.com NONSGML v1.0//EN
CALSCALE:GREGORIAN
METHOD:PUBLISH
BEGIN:VEVENT
UID:69e8d3dbf0804
DTSTAMP:20260422T135747Z
DTSTART:20240412T130000Z
DTEND:20240413T120000Z
LOCATION:Fonteinkerk Robert Kochstraat 2-4\,  3817 JM Amersfoort
SUMMARY:Duurzame ruilbeurs voorjaar 2024
DESCRIPTION:Als je op zaterdag 13 april a.s. wilt komen winkelen\,  dan is 
 de voorwaarde dat je éérst iets om te ruilen inbrengt. Dat kan op VRIJDAG
  12 APRIL\,  tussen 15.00 en 20.00 UUR. Voor meer informatie kun je per e-m
 ail contact opnemen met VDO.\nhttps://fonteinkerk-amersfoort.nl/events/duur
 zame-ruilbeurs-voorjaar-2024/
URL:https://fonteinkerk-amersfoort.nl/events/duurzame-ruilbeurs-voorjaar-2024/
END:VEVENT
END:VCALENDAR