BEGIN:VCALENDAR
VERSION:2.0
PRODID:-//eventon.com NONSGML v1.0//EN
CALSCALE:GREGORIAN
METHOD:PUBLISH
BEGIN:VEVENT
UID:69e8bb81d2713
DTSTAMP:20260422T121353Z
DTSTART:20240218T110000Z
DTEND:20240523T110000Z
LOCATION:Fonteinkerk Robert Kochstraat 2-4\,  3817 JM Amersfoort
SUMMARY:Franz Hazelzet
DESCRIPTION:‘Peindre c’est aimer’. Onlangs vierde Franz Hazelzet dat 
 hij veertig jaar geleden zijn eerste tentoonstelling had. Die ene zin is no
 g steeds zijn uitgangspunt\,  hij schildert met plezier\,  met liefde. Kleu
 r is het uitgangspunt van Franz Hazelzet. Kleur om daarmee via zijn verbeel
 ding een wereld te scheppen die er nog[..]\nhttps://fonteinkerk-amersfoort.
 nl/events/franz-hazelzet/
URL:https://fonteinkerk-amersfoort.nl/events/franz-hazelzet/
END:VEVENT
END:VCALENDAR